BEGIN:VCALENDAR
VERSION:2.0
PRODID:Events Booking
BEGIN:VEVENT
UID:69e9ebadc6dd7
SUMMARY:Primer Encuentro de Dirección de Proyectos para Universidades
DESCRIPTION:&nbsp\;
 \"Primer Encuentro de Dirección de Proyectos para Un
 iversidades\"&nbsp\;
 
 &nbsp\;
 &nbsp\;
DTSTART:20211001T130000Z
DTEND:20211001T170000Z
DTSTAMP:20260423T095141Z
ORGANIZER;CN=PMI Antioquia Chapter:MAILTO:contacto@pmiantioquia.org
END:VEVENT
END:VCALENDAR