BEGIN:VCALENDAR
VERSION:2.0
PRODID:Events Booking
BEGIN:VEVENT
UID:69e590a7c3cb6
SUMMARY:Principios BIM Agile
DESCRIPTION:
 EL CAPITULO PMI ANTIOQUIA TE INVITA AL EVENTO
 Principios B
 M Agile
 I
DTSTART:20230329T233000Z
DTEND:20230330T003000Z
DTSTAMP:20230317T002545Z
ORGANIZER;CN=PMI Antioquia Chapter:MAILTO:contacto@pmiantioquia.org
END:VEVENT
END:VCALENDAR