BEGIN:VCALENDAR
VERSION:2.0
PRODID:Events Booking
BEGIN:VEVENT
UID:69ea4e36508d2
SUMMARY:Productividad en Proyectos de Construcción
DESCRIPTION:El Capítulo PMI Antioquia invita a la comunidad a la conferenc
 ia \"Productividad en Proyectos de Construcción\"
 &nbsp\;
 
 &nbsp\;
 
 &nbsp\;
DTSTART:20210721T230000Z
DTEND:20210722T000000Z
DTSTAMP:20260423T165206Z
ORGANIZER;CN=PMI Antioquia Chapter:MAILTO:contacto@pmiantioquia.org
END:VEVENT
END:VCALENDAR