BEGIN:VCALENDAR
VERSION:2.0
PRODID:Events Booking
BEGIN:VEVENT
UID:69eb24dedc7ee
SUMMARY:Project Manager Handbook. Aplicando las mejores prácticas para la 
 Gestión de Proyectos
DESCRIPTION:&nbsp\;Webinar
DTSTART:20201111T230000Z
DTEND:20201112T000000Z
DTSTAMP:20260424T080758Z
ORGANIZER;CN=PMI Antioquia Chapter:MAILTO:contacto@pmiantioquia.org
END:VEVENT
END:VCALENDAR