BEGIN:VCALENDAR
VERSION:2.0
PRODID:Events Booking
BEGIN:VEVENT
UID:69ec04ff910d5
SUMMARY:ProjectManagement.com Webinar
DESCRIPTION:Coordinating Knowledge Work in Multiteam Programs: Findings Fro
 m a Large-Scale Agile Development Program
 MARCH 10\, 2020 11:00 AM EDT (
 UTC-4)
 Platform:&nbsp\;WebEx Capacity:&nbsp\;2000 Duration:&nbsp\;60 min
  Presenter:&nbsp\;Torgeir Dingsoyr
DTSTART:20200310T160000Z
DTEND:20200310T170000Z
DTSTAMP:20260425T000415Z
ORGANIZER;CN=PMI Antioquia Chapter:MAILTO:contacto@pmiantioquia.org
END:VEVENT
END:VCALENDAR