BEGIN:VCALENDAR
VERSION:2.0
PRODID:Events Booking
BEGIN:VEVENT
UID:69ec044964d1f
SUMMARY:ProjectManagement.com Webinar
DESCRIPTION:The Agile Enterprise: A Look at Frameworks and Certifications 
 – are they helping?
 MARCH 6\, 2020 9:00 AM EST (UTC-5)
 Platform:&nbs
 p\;WebEx Capacity:&nbsp\;2000 Duration:&nbsp\;60 min Presenters:&nbsp\;Ste
 lian ROMAN\,&nbsp\;Fred Ulmer
DTSTART:20200306T140000Z
DTEND:20200306T150000Z
DTSTAMP:20260425T000113Z
ORGANIZER;CN=PMI Antioquia Chapter:MAILTO:contacto@pmiantioquia.org
END:VEVENT
END:VCALENDAR