BEGIN:VCALENDAR
VERSION:2.0
PRODID:Events Booking
BEGIN:VEVENT
UID:69ec1738809ed
SUMMARY:ProjectManagement.com Webinar
DESCRIPTION:Emotional Intelligence for Project Managers – One Unhappy Per
 son can Ruin your Beautiful Plan
 Platform:&nbsp\;WebEx Capacity:&nbsp\;2
 000 Duration:&nbsp\;60 min Presenter:&nbsp\;Kim Wasson
 Support:&nbsp\;Ea
 rning PDUs&nbsp\;|&nbsp\;Tips For Attendees
DTSTART:20200305T160000Z
DTEND:20200305T173000Z
DTSTAMP:20260425T012200Z
ORGANIZER;CN=PMI Antioquia Chapter:MAILTO:contacto@pmiantioquia.org
END:VEVENT
END:VCALENDAR