BEGIN:VCALENDAR
VERSION:2.0
PRODID:Events Booking
BEGIN:VEVENT
UID:69ec06bbaa99b
SUMMARY:ProjectManagement.com Webinar
DESCRIPTION:Delivering Projects from Idea to Customer Using the Disciplined
  Agile Toolkit
 MARCH 31\, 2020 10:00 AM EDT (UTC-4)
 Platform:&nbsp\;We
 bEx Capacity:&nbsp\;2000 Duration:&nbsp\;60 min Presenter:&nbsp\;Klaus Boe
 dker
DTSTART:20200331T140000Z
DTEND:20200331T150000Z
DTSTAMP:20260425T001139Z
ORGANIZER;CN=PMI Antioquia Chapter:MAILTO:contacto@pmiantioquia.org
END:VEVENT
END:VCALENDAR