BEGIN:VCALENDAR
VERSION:2.0
PRODID:Events Booking
BEGIN:VEVENT
UID:69e8d4e4aaf34
SUMMARY:Proyectos Industriales: Ejes primordiales para su ejecución
DESCRIPTION:
 
DTSTART:20220907T233000Z
DTEND:20220908T003000Z
DTSTAMP:20260422T140212Z
ORGANIZER;CN=PMI Antioquia Chapter:MAILTO:contacto@pmiantioquia.org
END:VEVENT
END:VCALENDAR