BEGIN:VCALENDAR
VERSION:2.0
PRODID:Events Booking
BEGIN:VEVENT
UID:69e92c7a8db81
SUMMARY:Proyectos productivos en el entorno escolar
DESCRIPTION:
DTSTART:20220622T233000Z
DTEND:20220623T003000Z
DTSTAMP:20260422T201554Z
ORGANIZER;CN=PMI Antioquia Chapter:MAILTO:contacto@pmiantioquia.org
END:VEVENT
END:VCALENDAR