BEGIN:VCALENDAR
VERSION:2.0
PRODID:Events Booking
BEGIN:VEVENT
UID:69eb3bb73e5a0
SUMMARY:Gestión de Calidad
DESCRIPTION:Miguel Angel
 Bienvenidos !!
DTSTART:20201023T210000Z
DTEND:20201024T030000Z
DTSTAMP:20260424T094527Z
ORGANIZER;CN=PMI Antioquia Chapter:MAILTO:contacto@pmiantioquia.org
END:VEVENT
END:VCALENDAR