BEGIN:VCALENDAR
VERSION:2.0
PRODID:Events Booking
BEGIN:VEVENT
UID:69e8edd23fc7e
SUMMARY:¿Qué es primero: Business Agility o Transformación Digital?
DESCRIPTION:
DTSTART:20220824T233000Z
DTEND:20220825T003000Z
DTSTAMP:20260422T154834Z
ORGANIZER;CN=PMI Antioquia Chapter:MAILTO:contacto@pmiantioquia.org
END:VEVENT
END:VCALENDAR