BEGIN:VCALENDAR
VERSION:2.0
PRODID:Events Booking
BEGIN:VEVENT
UID:69e5904524d18
SUMMARY:Retos en la gestión de portafolio lean
DESCRIPTION:EL CAPITULO PMI ANTIOQUIA TE INVITA AL EVENTO
 Retos en la ges
 tión de portafolio lean
 &nbsp\;
 
 &nbsp\;
DTSTART:20230308T233000Z
DTEND:20230309T003000Z
DTSTAMP:20260420T023237Z
ORGANIZER;CN=PMI Antioquia Chapter:MAILTO:contacto@pmiantioquia.org
END:VEVENT
END:VCALENDAR