BEGIN:VCALENDAR
VERSION:2.0
PRODID:Events Booking
BEGIN:VEVENT
UID:69ebb54b1f429
SUMMARY:Reunión Informativa Capítulo Antioquia del PMI
DESCRIPTION:Reunión Informativa Capitulo Antioquia del PMI
 &nbsp\;
 Acl
 aración: La Asamblea Extraordinaria citada para esta misma fecha se le da
 rá el carácter de Reunión Informativa
DTSTART:20200620T150000Z
DTEND:20200620T170000Z
DTSTAMP:20260424T182411Z
ORGANIZER;CN=PMI Antioquia Chapter:MAILTO:contacto@pmiantioquia.org
END:VEVENT
END:VCALENDAR