BEGIN:VCALENDAR
VERSION:2.0
PRODID:Events Booking
BEGIN:VEVENT
UID:69e58f7a85589
SUMMARY:RIESGOS: Mi experiencia en el mundo real y virtual
DESCRIPTION:EL CAPITULO PMI ANTIOQUIA TE INVITA AL EVENTO
 RIESGOS: Mi exp
 eriencia en el mundo real y virtual
 
DTSTART:20230322T233000Z
DTEND:20230323T003000Z
DTSTAMP:20260420T022914Z
ORGANIZER;CN=PMI Antioquia Chapter:MAILTO:contacto@pmiantioquia.org
END:VEVENT
END:VCALENDAR