BEGIN:VCALENDAR
VERSION:2.0
PRODID:Events Booking
BEGIN:VEVENT
UID:69ea962964c24
SUMMARY:Schedule Management con MS Project
DESCRIPTION:
DTSTART:20210415T000000Z
DTEND:20210415T010000Z
DTSTAMP:20260423T215905Z
ORGANIZER;CN=PMI Antioquia Chapter:MAILTO:contacto@pmiantioquia.org
END:VEVENT
END:VCALENDAR