BEGIN:VCALENDAR
VERSION:2.0
PRODID:Events Booking
BEGIN:VEVENT
UID:69eaa3349a739
SUMMARY:Seminario de Industria 4.0 - SAI
DESCRIPTION:
DTSTART:20210428T130000Z
DTEND:20210430T200000Z
DTSTAMP:20260423T225444Z
ORGANIZER;CN=PMI Antioquia Chapter:MAILTO:contacto@pmiantioquia.org
END:VEVENT
END:VCALENDAR