BEGIN:VCALENDAR
VERSION:2.0
PRODID:Events Booking
BEGIN:VEVENT
UID:69e9623196df7
SUMMARY:Ser líder 4.0:  El liderazgo para los tiempos actuales y el futuro
  de las organizaciones
DESCRIPTION:
DTSTART:20220406T233000Z
DTEND:20220407T003000Z
DTSTAMP:20260423T000505Z
ORGANIZER;CN=PMI Antioquia Chapter:MAILTO:contacto@pmiantioquia.org
END:VEVENT
END:VCALENDAR