BEGIN:VCALENDAR
VERSION:2.0
PRODID:Events Booking
BEGIN:VEVENT
UID:69e590d76009c
SUMMARY:Taller DASM
DESCRIPTION:&nbsp\;El Capítulo PMI®&nbsp\;Antioquia te invita&nbsp\;&nbsp
 \;
 Al taller de DASM de nuestro aliado Proyectum
DTSTART:20230327T230000Z
DTEND:20230401T020000Z
DTSTAMP:20260420T023503Z
ORGANIZER;CN=PMI Antioquia Chapter:MAILTO:contacto@pmiantioquia.org
END:VEVENT
END:VCALENDAR