BEGIN:VCALENDAR
VERSION:2.0
PRODID:Events Booking
BEGIN:VEVENT
UID:69e5a8ffba74a
SUMMARY:TALLER DE LA NASA
DESCRIPTION:&nbsp\;
 EL CAPITULO PMI ANTIOQUIA TE INVITA AL EVENTO
 \"ANF
 ITRIÓN : Comunidad PMO de Antioquia\"
 &nbsp\;
 
DTSTART:20230208T233000Z
DTEND:20230209T003000Z
DTSTAMP:20260420T041807Z
ORGANIZER;CN=PMI Antioquia Chapter:MAILTO:contacto@pmiantioquia.org
END:VEVENT
END:VCALENDAR