BEGIN:VCALENDAR
VERSION:2.0
PRODID:Events Booking
BEGIN:VEVENT
UID:69ea0f235bb42
SUMMARY:TALLER DE LIDERAZGO \"EL ARTE DE INFLUENCIAR EN EL EQUIPO\"
DESCRIPTION:&nbsp\;
 TALLER DE LIDERAZGO \"EL ARTE DE INFLUENCIAR EN EL EQ
 UIPO\"
 &nbsp\;
 
DTSTART:20210925T140000Z
DTEND:20210925T160000Z
DTSTAMP:20260423T122259Z
ORGANIZER;CN=PMI Antioquia Chapter:MAILTO:contacto@pmiantioquia.org
END:VEVENT
END:VCALENDAR