BEGIN:VCALENDAR
VERSION:2.0
PRODID:Events Booking
BEGIN:VEVENT
UID:69e577d3caaf2
SUMMARY:Taller Métricas Ágiles
DESCRIPTION:
DTSTART:20230417T050000Z
DTEND:20230504T050000Z
DTSTAMP:20260420T004819Z
ORGANIZER;CN=PMI Antioquia Chapter:MAILTO:contacto@pmiantioquia.org
END:VEVENT
END:VCALENDAR