BEGIN:VCALENDAR
VERSION:2.0
PRODID:Events Booking
BEGIN:VEVENT
UID:69e9700b073e6
SUMMARY:Lean Change Management
DESCRIPTION:&nbsp\;
 El Capítulo PMI Antioquia los invita al evento 
 \"
 Lean Change Management para la Transformación con Discipline Agile\" 
 
DTSTART:20220323T233000Z
DTEND:20220324T003000Z
DTSTAMP:20260423T010411Z
ORGANIZER;CN=PMI Antioquia Chapter:MAILTO:contacto@pmiantioquia.org
END:VEVENT
END:VCALENDAR