BEGIN:VCALENDAR
VERSION:2.0
PRODID:Events Booking
BEGIN:VEVENT
UID:69eb55ce78015
SUMMARY:Transitando la Ansiedad en la Gerencia de Proyectos
DESCRIPTION:&nbsp\; Jose Alexander Herran
DTSTART:20200916T230000Z
DTEND:20200917T003000Z
DTSTAMP:20260424T113646Z
ORGANIZER;CN=PMI Antioquia Chapter:MAILTO:contacto@pmiantioquia.org
END:VEVENT
END:VCALENDAR