BEGIN:VCALENDAR
VERSION:2.0
PRODID:Events Booking
BEGIN:VEVENT
UID:69eb0d34be441
SUMMARY:Verbena: Celebremos el cierre del 2020
DESCRIPTION:&nbsp\; &nbsp\;Miembros PMI Antioquia
 &nbsp\; ...Celebremos j
 untos...
 &nbsp\;
 &nbsp\; Y tendremos remate con TALENT SHOW.&nbsp\; &n
 bsp\; &nbsp\;
 &nbsp\; Compartiendo con tú comunidad!&nbsp\;
DTSTART:20201211T000000Z
DTEND:20201211T020000Z
DTSTAMP:20260424T062700Z
ORGANIZER;CN=PMI Antioquia Chapter:MAILTO:contacto@pmiantioquia.org
END:VEVENT
END:VCALENDAR