BEGIN:VCALENDAR
VERSION:2.0
PRODID:Events Booking
BEGIN:VEVENT
UID:69e9720108503
SUMMARY:Virtual Experience Series 2022 - PMXPO – 24 de marzo
DESCRIPTION:&nbsp\;
 PMI INVITA A&nbsp\;
 Virtual Experience Series 2022 
 - PMXPO – 24 de marzohttps://www.youtube.com/watch?v=nKAmh0YuVZY
 
DTSTART:20220324T140000Z
DTEND:20220324T090000Z
DTSTAMP:20260423T011233Z
ORGANIZER;CN=PMI Antioquia Chapter:MAILTO:contacto@pmiantioquia.org
END:VEVENT
END:VCALENDAR