BEGIN:VCALENDAR
VERSION:2.0
PRODID:Events Booking
BEGIN:VEVENT
UID:69e92973655e4
SUMMARY:Virtual Experience Series
DESCRIPTION:
DTSTART:20220609T120000Z
DTEND:20220609T190000Z
DTSTAMP:20260422T200259Z
ORGANIZER;CN=PMI Antioquia Chapter:MAILTO:contacto@pmiantioquia.org
END:VEVENT
END:VCALENDAR