BEGIN:VCALENDAR
VERSION:2.0
PRODID:Events Booking
BEGIN:VEVENT
UID:69ea5f597c9f6
SUMMARY:Voluntario\, ser o no ser? Esa es la PREGUNTA
DESCRIPTION:
DTSTART:20210628T230000Z
DTEND:20210629T000000Z
DTSTAMP:20260423T180513Z
ORGANIZER;CN=PMI Antioquia Chapter:MAILTO:contacto@pmiantioquia.org
END:VEVENT
END:VCALENDAR