BEGIN:VCALENDAR
VERSION:2.0
PRODID:Events Booking
BEGIN:VEVENT
UID:69eb9f3c8a64f
SUMMARY:VOLUNTARIOS: Conectémonos\, encontrémonos y Compartamos  
DESCRIPTION:Un espacio para los voluntarios del capítulo. PMI Antioquia SO
 MOS sus voluntarios...
DTSTART:20200702T233000Z
DTEND:20200703T010000Z
DTSTAMP:20260424T165004Z
ORGANIZER;CN=PMI Antioquia Chapter:MAILTO:contacto@pmiantioquia.org
END:VEVENT
END:VCALENDAR