BEGIN:VCALENDAR
VERSION:2.0
PRODID:Events Booking
BEGIN:VEVENT
UID:69ec1fe501702
SUMMARY: WEBINAR: Aprovecha el Cambio del Examen para Certificarte como PMP
  Home \\ event
DESCRIPTION:✔&nbsp\;WEBINAR
 ?&nbsp\;“Aprovecha el Cambio del Examen p
 ara Certificarte como PMP”
 ?&nbsp\;Speaker: Wilson Rincón
 ?&nbsp\;F
 echa: Jueves 20 de Febrero 2020
 ⌚&nbsp\;Hora: 6:30 P.M.
 ?Ubicación:
  Link ZOOM
 ?&nbsp\;Link Registro:&nbsp\;https://certificacionpmp.eventbr
 ite.com
 ?&nbsp\;PARA TODOS LOS INTERESADOS EN CERTIFICARSE COMO PMP
DTSTART:20200220T233000Z
DTEND:20200221T000000Z
DTSTAMP:20260425T015901Z
ORGANIZER;CN=PMI Antioquia Chapter:MAILTO:contacto@pmiantioquia.org
END:VEVENT
END:VCALENDAR