BEGIN:VCALENDAR
VERSION:2.0
PRODID:Events Booking
BEGIN:VEVENT
UID:69ebb3aba2234
SUMMARY:Webinar: Business Drivers: Impulsadores de la Transformación
DESCRIPTION:✔️WEBINAR: Business Drivers: Impulsadores de la Transformac
 ión.
 &nbsp\;
 #PMIenCasa ofrece @PMIBogota
DTSTART:20200617T000000Z
DTEND:20200616T230000Z
DTSTAMP:20260424T181715Z
ORGANIZER;CN=PMI Antioquia Chapter:MAILTO:contacto@pmiantioquia.org
END:VEVENT
END:VCALENDAR