BEGIN:VCALENDAR
VERSION:2.0
PRODID:Events Booking
BEGIN:VEVENT
UID:69ea937d1adcf
SUMMARY:Webinar: Cómo afrontar los retos del nuevo examen PMP 
DESCRIPTION:
DTSTART:20210416T230000Z
DTEND:20210417T000000Z
DTSTAMP:20260423T214741Z
ORGANIZER;CN=PMI Antioquia Chapter:MAILTO:contacto@pmiantioquia.org
END:VEVENT
END:VCALENDAR