BEGIN:VCALENDAR
VERSION:2.0
PRODID:Events Booking
BEGIN:VEVENT
UID:69ec1e9502bcf
SUMMARY:Webinar: \"Innovación + Calidad Disruptiva como estrategia intelig
 ente en la Gestión de Programas y Proyectos
DESCRIPTION:…La Innovación como una disciplina a considerar desde el ini
 cio de un proyecto…
 ✔&nbsp\;WEBINAR ?&nbsp\;“Innovación + Calidad
  Disruptiva” como estrategia inteligente en la gestión de Programas y P
 royectos ?&nbsp\;Speaker: Oscar Wolf ?&nbsp\;Fecha: Miercoles 12 de Febrer
 o 2020 ⌚&nbsp\;Hora: 5 P.M. México ⌚&nbsp\;Hora: 6 P.M. Colombia ⌚&
 nbsp\;Hora: 7 P.M. República Dominicana ?Ubicación: Virtual ?&nbsp\;PDU:
  1 PDU Estratégico ?&nbsp\;Link registro:&nbsp\;http://bit.ly/webinarosca
 rwolf ?&nbsp\;Gratis para miembros y no miembros
DTSTART:20200212T230000Z
DTEND:20200213T000000Z
DTSTAMP:20260425T015325Z
ORGANIZER;CN=PMI Antioquia Chapter:MAILTO:contacto@pmiantioquia.org
END:VEVENT
END:VCALENDAR