BEGIN:VCALENDAR
VERSION:2.0
PRODID:Events Booking
BEGIN:VEVENT
UID:69ebd7f22846c
SUMMARY:Webinar: Introducción Disciplined Agile - DA 
DESCRIPTION:✔ Webinar: Introducción Disciplined Agile - DA
 &nbsp\;WEBI
 NAR DA-Discipline Agile
DTSTART:20200512T230000Z
DTEND:20200513T003000Z
DTSTAMP:20260424T205202Z
ORGANIZER;CN=PMI Antioquia Chapter:MAILTO:contacto@pmiantioquia.org
END:VEVENT
END:VCALENDAR