BEGIN:VCALENDAR
VERSION:2.0
PRODID:Events Booking
BEGIN:VEVENT
UID:69ebd8ff76bba
SUMMARY:WEBINAR: Organizaciones Exponenciales
DESCRIPTION:✔ Webinar: Organizaciones Exponenciales
DTSTART:20200520T230000Z
DTEND:20200521T000000Z
DTSTAMP:20260424T205631Z
ORGANIZER;CN=PMI Antioquia Chapter:MAILTO:contacto@pmiantioquia.org
END:VEVENT
END:VCALENDAR