BEGIN:VCALENDAR
VERSION:2.0
PRODID:Events Booking
BEGIN:VEVENT
UID:69ec1fe52cb38
SUMMARY:Webinar ProjectManagement.com
DESCRIPTION:Para que estemos enterados de la importancia de asistir a los e
 ventos presenciales\, 300 + Capitulos globales de PMI nos conectan con PMI
 &nbsp\; a través del servicio\, voluntariado y participación con ese Cap
 ítulo más cercano a ti.
 We Are Many\, We Are One! Discover The Face To
  Face Community Aspects Of PMI: It’s 300+ Global Chapters! Feb 27\, 2020
  9:00:00 AM EST (UTC-5)
DTSTART:20200227T140000Z
DTEND:20200227T150000Z
DTSTAMP:20260425T015901Z
ORGANIZER;CN=PMI Antioquia Chapter:MAILTO:contacto@pmiantioquia.org
END:VEVENT
END:VCALENDAR