BEGIN:VCALENDAR
VERSION:2.0
PRODID:Events Booking
BEGIN:VEVENT
UID:69ebd99583897
SUMMARY:Webinar: ¿Qué hay de nuevo en PMI? Brightline
DESCRIPTION:✔ Webinar LATAM¿Qué hay de nuevo en PMI? Brightline\, reduc
 iendo la brecha entre el diseño y la ejecución de la estrategia
 #PMILa
 tam
DTSTART:20200513T230000Z
DTEND:20200514T000000Z
DTSTAMP:20260424T205901Z
ORGANIZER;CN=PMI Antioquia Chapter:MAILTO:contacto@pmiantioquia.org
END:VEVENT
END:VCALENDAR