BEGIN:VCALENDAR
VERSION:2.0
PRODID:Events Booking
BEGIN:VEVENT
UID:69ebd85ded0c3
SUMMARY:WEBINAR: Sin Gobierno no hay Transformacion Digital
DESCRIPTION:✔ Webinar: Sin Gobierno no hay Transformacion Digital
DTSTART:20200528T230000Z
DTEND:20200529T000000Z
DTSTAMP:20260424T205349Z
ORGANIZER;CN=PMI Antioquia Chapter:MAILTO:contacto@pmiantioquia.org
END:VEVENT
END:VCALENDAR