BEGIN:VCALENDAR
VERSION:2.0
PRODID:Events Booking
BEGIN:VEVENT
UID:69ea314d45ec1
SUMMARY:Webinar: The Future Of Work
DESCRIPTION:El Capítulo PMI Antioquia invita a la comunidad a la conferenc
 ia \"The Future of Work\"
 &nbsp\;
DTSTART:20210825T230000Z
DTEND:20210826T000000Z
DTSTAMP:20260423T144845Z
ORGANIZER;CN=PMI Antioquia Chapter:MAILTO:contacto@pmiantioquia.org
END:VEVENT
END:VCALENDAR