BEGIN:VCALENDAR
VERSION:2.0
PRODID:Events Booking
BEGIN:VEVENT
UID:69ec04ff613d9
SUMMARY:WEBINAR: Webinar Marcos Híbridos ¿Estás preparado?
DESCRIPTION:✔&nbsp\;WEBINAR
 ? “Marcos Híbridos ¿Estás preparado?
 ”
 ?&nbsp\;Speaker: Ernesto Garnica
 ?&nbsp\;Fecha: Miércoles 11 de M
 arzo 2020
 ⌚&nbsp\;5 PM Hora México
 ⌚6 PM Hora Colombia
 ⌚7 PM 
 Hora Rep.Dominicana
 ?ONLINE
 ?&nbsp\;PDU: 1 PDU Estratégico
 ?&nbsp\;
 Link registro:&nbsp\;https://ernestogarnica.eventbrite.com
 ?&nbsp\;Event
 o gratuito
DTSTART:20200311T230000Z
DTEND:20200312T003000Z
DTSTAMP:20260425T000415Z
ORGANIZER;CN=PMI Antioquia Chapter:MAILTO:contacto@pmiantioquia.org
END:VEVENT
END:VCALENDAR